BEGIN:VCALENDAR
VERSION:2.0
PRODID:-//wp-events-plugin.com//7.2.3.1//EN
TZID:America/Chicago
X-WR-TIMEZONE:America/Chicago
BEGIN:VEVENT
UID:302@emanuelchurch.net
DTSTART:20231217T103000Z
DTEND:20231217T120000Z
DTSTAMP:20230908T165818Z
URL:https://emanuelchurch.net/events/youth-christmas-musical/
SUMMARY:Youth Christmas Musical
DESCRIPTION:Get ready to celebrate the joy of the season with our Youth Chr
 istmas Musical at Emanuel Church of Baraboo!
CATEGORIES:Youth Christmas Musical
END:VEVENT
END:VCALENDAR